


BEGIN:VCALENDAR
VERSION:2.0
PRODID:-//D&eacute;crocher la lune - ECPv6.15.17.1//NONSGML v1.0//EN
CALSCALE:GREGORIAN
METHOD:PUBLISH
X-ORIGINAL-URL:https://decrocherlalune.eu
X-WR-CALDESC:Évènements pour D&eacute;crocher la lune
REFRESH-INTERVAL;VALUE=DURATION:PT1H
X-Robots-Tag:noindex
X-PUBLISHED-TTL:PT1H
BEGIN:VTIMEZONE
TZID:Europe/Brussels
BEGIN:DAYLIGHT
TZOFFSETFROM:+0100
TZOFFSETTO:+0200
TZNAME:CEST
DTSTART:20220327T010000
END:DAYLIGHT
BEGIN:STANDARD
TZOFFSETFROM:+0200
TZOFFSETTO:+0100
TZNAME:CET
DTSTART:20221030T010000
END:STANDARD
BEGIN:DAYLIGHT
TZOFFSETFROM:+0100
TZOFFSETTO:+0200
TZNAME:CEST
DTSTART:20230326T010000
END:DAYLIGHT
BEGIN:STANDARD
TZOFFSETFROM:+0200
TZOFFSETTO:+0100
TZNAME:CET
DTSTART:20231029T010000
END:STANDARD
BEGIN:DAYLIGHT
TZOFFSETFROM:+0100
TZOFFSETTO:+0200
TZNAME:CEST
DTSTART:20240331T010000
END:DAYLIGHT
BEGIN:STANDARD
TZOFFSETFROM:+0200
TZOFFSETTO:+0100
TZNAME:CET
DTSTART:20241027T010000
END:STANDARD
BEGIN:DAYLIGHT
TZOFFSETFROM:+0100
TZOFFSETTO:+0200
TZNAME:CEST
DTSTART:20250330T010000
END:DAYLIGHT
BEGIN:STANDARD
TZOFFSETFROM:+0200
TZOFFSETTO:+0100
TZNAME:CET
DTSTART:20251026T010000
END:STANDARD
BEGIN:DAYLIGHT
TZOFFSETFROM:+0100
TZOFFSETTO:+0200
TZNAME:CEST
DTSTART:20260329T010000
END:DAYLIGHT
BEGIN:STANDARD
TZOFFSETFROM:+0200
TZOFFSETTO:+0100
TZNAME:CET
DTSTART:20261025T010000
END:STANDARD
BEGIN:DAYLIGHT
TZOFFSETFROM:+0100
TZOFFSETTO:+0200
TZNAME:CEST
DTSTART:20270328T010000
END:DAYLIGHT
BEGIN:STANDARD
TZOFFSETFROM:+0200
TZOFFSETTO:+0100
TZNAME:CET
DTSTART:20271031T010000
END:STANDARD
END:VTIMEZONE
BEGIN:VEVENT
DTSTART;TZID=Europe/Brussels:20260315T070000
DTEND;TZID=Europe/Brussels:20260317T233000
DTSTAMP:20260420T072246
CREATED:20260306T104814Z
LAST-MODIFIED:20260312T101847Z
UID:10000057-1773558000-1773790200@decrocherlalune.eu
SUMMARY:le bar à bulles des lunaires
DESCRIPTION:Le traditionnel bar à champagne éphémère des lunaires ouvrira à nouveau ses portes à l’occasion du Laetare. \n\n\n\nAu programme : bulles\, bonne humeur et bonne musique avec Dj LOUIS au platines. \n\n\n\n \n\n\n\nHEURES D’OUVERTURE : \n\n\n\nDIMANCHE 15.03 \n\n\n\n7H>20H \n\n\n\nLUNDI 16.03 \n\n\n\n10H>20H \n\n\n\nMARDI 17.03 \n\n\n\n17H>Minuit \n\n\n\n \n\n\n\nACCUEIL CENTRISSIME \n\n\n\nPLACE JULES MANSART 21-22 \n\n\n\n7100 LA LOUVIÈRE \n\n\n\n \n\n\n\nAVEC DJ LOUIS SIREAUX  \n\n\n\n \n\n\n\nOUVERT À TOUTES ET TOUS
URL:https://decrocherlalune.eu/evenement/le-bar-a-bulles-des-lunaires/
ATTACH;FMTTYPE=image/png:https://decrocherlalune.eu/wp-content/uploads/2026/03/dimanche-1003-7h20h-lundi-1103-10h20h-mardi-1203-17h00h-1.png
END:VEVENT
BEGIN:VEVENT
DTSTART;TZID=Europe/Brussels:20250304T160000
DTEND;TZID=Europe/Brussels:20250304T180000
DTSTAMP:20260420T072246
CREATED:20250218T120052Z
LAST-MODIFIED:20250218T120236Z
UID:10000056-1741104000-1741111200@decrocherlalune.eu
SUMMARY:La compagnie altitude 80 à la Grande parade du carnaval de charlerloi
DESCRIPTION:Les échassiers d’Altitude 80 ont été invités par l’Eden à participer à la Grande Parade du Carnaval de Charleroi. \n\n\n\n \n\n\n\nAccompagnés des percussionnistes de la Maison de Jeunes Indigo\, elles/ils déambuleront dans les rues de la cité Carolo parmi  800  participant.es issu.es de 30 groupes différents. \n\n\n\n \n\n\n\n« Un véritable raz-de-marée créatif\, upcyclé et métissé\, qui se sera préparé durant plus de 3 semaines dans le cadre de la Grande Fabrique du Carnaval »
URL:https://decrocherlalune.eu/evenement/la-compagnie-altitude-80-a-la-grande-parade-du-carnaval-de-charlerloi/
LOCATION:Départ : Eden\, Place Vauban\, Charleroi
END:VEVENT
BEGIN:VEVENT
DTSTART;TZID=Europe/Brussels:20240913T140000
DTEND;TZID=Europe/Brussels:20240913T170000
DTSTAMP:20260420T072246
CREATED:20240628T120628Z
LAST-MODIFIED:20240913T085209Z
UID:10000053-1726236000-1726246800@decrocherlalune.eu
SUMMARY:La Tournée Générale - La Finale
DESCRIPTION:Place communale\, La Louvière \n\n\n\n\n\nAprès une semaine de folie dans les quartiers de La Louvière\, la Tournée générale s’installe sur la Place communale pour la grande finale à l’occasion des Fêtes de Wallonie. Ce sont les équipes de Saint-Vaast et des 2 Haine\, grandes gagnantes des demi-finales qui s’affronteront dans un ultime duel. \n\n\n\n \n\n\n\nQui gagnera la Tournée générale 2024 ?   \n\n\n\n \n\n\n\nProgramme de la journée: \n\n\n\n\n11H00: Ouverture du Site et apéro des Amb(r)assades\n\n\n\n14H00: Début de la compétition\n\n\n\n16H00: DJ Chazam
URL:https://decrocherlalune.eu/evenement/la-tournee-generale-la-finale/
ATTACH;FMTTYPE=image/jpeg:https://decrocherlalune.eu/wp-content/uploads/2024/06/affiches-tg-2024-a3-page-1.jpg
END:VEVENT
BEGIN:VEVENT
DTSTART;TZID=Europe/Brussels:20240908T020000
DTEND;TZID=Europe/Brussels:20240908T030000
DTSTAMP:20260420T072246
CREATED:20240906T090939Z
LAST-MODIFIED:20240906T090941Z
UID:10000054-1725760800-1725764400@decrocherlalune.eu
SUMMARY:Les vieux luneux                                        festival de la rose
DESCRIPTION:Les Vieux Luneux Mia\, Amédée et Hubert présenteront leur Quartier de lune au Festival de la Rose.  \n\n\n\n \n\n\n\nUn instant suspendu où ils partagent leurs univers et leurs jolis souvenirs…. \n\n\n\n \n\n\n\nUn moment à partager en famille.
URL:https://decrocherlalune.eu/evenement/les-vieux-luneux-festival-de-la-rose/
LOCATION:Jardins de l’Ancien Hôpital St-Jacques Faubourg de Binche\, 1 7070 Le Roeulx
END:VEVENT
BEGIN:VEVENT
DTSTART;TZID=Europe/Brussels:20240816T183000
DTEND;TZID=Europe/Brussels:20240822T230000
DTSTAMP:20260420T072246
CREATED:20240628T082730Z
LAST-MODIFIED:20240628T083140Z
UID:10000049-1723833000-1724367600@decrocherlalune.eu
SUMMARY:La Tournée Générale
DESCRIPTION:Fabrice Murgia et Nicolas Buysse reprennent la direction artistique de la 5 ème éditionde la Tournée générale en proposant un nouveau concept. \n\n\n\nDans cette nouvelle formule\, le fil rouge de l’événement est à nouveau la compétitioninter-quartiers dans laquelle de nouvelles épreuves ont été créées. Ces épreuvesfont appel à la créativité et les talents singuliers des citoyens. \n\n\n\nLe principal changement artistique est la transformation de la scène du spectacle enun « faux » plateau de télévision. La compétition sera filmée et le public plongé dansun jeu télévisé inspiré de l’émission culte « Intervilles » dans une version drôle etdécalée . \n\n\n\n \n\n\n\n \n\n\n\nDéroulement :  \n\n\n\n \n\n\n\n\nOuverture du site au public – 18h30\n\n\n\n\n\nDébut de la compétition – 19h30\n\n\n\n\n\nDJ set Chazam – 21H00\n\n\n\n\n \n\n\n\n\n\n \n\n\n\nItinéraire : \n\n\n\n \n\n\n\n16 août à Besonrieux – Quart de finale 1 : Les 2 Houdeng contre La Louvière-centre \n\n\n\n \n\n\n\n17 août à Maurage/Boussoit – Quart de finale 2 : Strépy-Bracquegnies contre Saint-Vaast \n\n\n\n \n\n\n\n18 août à Saint-Vaast – Quart de finale 3 : Besonrieux contre Trivières \n\n\n\n \n\n\n\n19 août à Strépy-Bracquegnies – Quart de finale 4 : Les 2 Haine contre Maurage/Boussoit \n\n\n\n \n\n\n\n20 août à Trivières – Demi-finale 1 : Gagnant du Jour 1 contre Gagnant du Jour 2 \n\n\n\n \n\n\n\n21 août à Houdeng – Demi-finale 2 : Gagnant du Jour 3 contre Gagnant du Jour 4 \n\n\n\n \n\n\n\n22 août aux 2 Haine – Petite finale : Perdant du Jour 5 contre Perdant du Jour 6 \n\n\n\n \n\n\n\n15 septembre à La Louvière – Finale : Gagnant du Jour 5 contre Gagnant du Jour 6
URL:https://decrocherlalune.eu/evenement/la-tournee-generale/
ATTACH;FMTTYPE=image/jpeg:https://decrocherlalune.eu/wp-content/uploads/2024/06/affiche-tg-2024-page-0001.jpg
END:VEVENT
BEGIN:VEVENT
DTSTART;TZID=Europe/Brussels:20240811T090000
DTEND;TZID=Europe/Brussels:20240811T160000
DTSTAMP:20260420T072246
CREATED:20240628T115843Z
LAST-MODIFIED:20240628T115844Z
UID:10000052-1723366800-1723392000@decrocherlalune.eu
SUMMARY:Atelier - "Crée ton Héros"
DESCRIPTION:Parmi les actions participatives et en écho à l’émission \, l’artiste Precy Numbi propose un atelier eco-futuriste «Crée ton héros». \n\n\n\nCet atelier est destiné aux enfants de 8 à 12 ans\, ils pourront construire leur costume de robot-héro à base des cartons et déchets de récupération. Les enfants déguisés en petit robot seront des protagonistes des épreuves de la Tournée Générale. \n\n\n\n \n\n\n\n• Lieu principal : Maison de quartier de Maurage \n\n\n\n• Inscriptions : Via le e-guichet de la Ville \n\n\n\n• Nombres d’enfants : 30 enfants \n\n\n\n \n\n\n\n \n\n\n\nLes enfants seront répartis en 3 groupes et participeront à 2 ou 3 représentations. \n\n\n\nLa finale regroupera idéalement l’ensemble des enfants le 15/09/2024. \n\n\n\n \n\n\n\nDu lundi 5 août 2024 au vendredi 9 août 2024 : Stage « Crée ton robot ! – Atelier recyclage » \n\n\n\nLieu : Maison de quartier de Maurage (Place de Maurage) \n\n\n\nHoraires : 8h30-16h30 \n\n\n\nDu lundi 12 août 2024 au mercredi 14 août 2024 : Répétitions pour les représentations \n\n\n\nLieu : HangArts Urbains : Rue Victorien Ergo 33 à Strépy-Bracquegnies \n\n\n\nHoraires : 8h30-16h30 \n\n\n\nDu vendredi 16 août 2024 au 22 août 2024 : Spectacle pour la Tournée générale \n\n\n\nHoraires : \n\n\n\n \n\n\n\n– 17h30 : Accueil des enfants \n\n\n\n* 17h45 : Catering \n\n\n\n* 18h30 : Habillement \n\n\n\n* 19h30-21h30 : Spectacle \n\n\n\n* 22h : Reprise des enfants par les parents
URL:https://decrocherlalune.eu/evenement/atelier-cree-ton-heros/
ATTACH;FMTTYPE=image/jpeg:https://decrocherlalune.eu/wp-content/uploads/2024/06/andysimonstudio-45.jpg
END:VEVENT
BEGIN:VEVENT
DTSTART;TZID=Europe/Brussels:20240601T150000
DTEND;TZID=Europe/Brussels:20240601T170000
DTSTAMP:20260420T072246
CREATED:20240521T140735Z
LAST-MODIFIED:20240828T134741Z
UID:10000030-1717254000-1717261200@decrocherlalune.eu
SUMMARY:Zinneke Parade
DESCRIPTION:Rejoignez les échassiers de l’A.S.B.L Centre Indigo\, pour la Zinneke Parade. Retrouvez-les pour cette marche incontournable et spectaculaire. La Zinneke Parade est un événement biennal à Bruxelles\, célébrant la diversité culturelle et la créativité collective à travers des défilés haut en couleur et des performances artistiques dans les rues de la ville. Ne manquez pas cette occasion unique de participer à une fête vibrante et inclusive.
URL:https://decrocherlalune.eu/evenement/zinneke-parade/
LOCATION:Place Masui – 1000 Bruxelles\, Place Masui - 1000 Bruxelles\, Bruxelles
ATTACH;FMTTYPE=image/png:https://decrocherlalune.eu/wp-content/uploads/2024/05/facebook-417440134.png
END:VEVENT
BEGIN:VEVENT
DTSTART;TZID=Europe/Brussels:20240518T160000
DTEND;TZID=Europe/Brussels:20240518T180000
DTSTAMP:20260420T072246
CREATED:20240514T145827Z
LAST-MODIFIED:20240514T150720Z
UID:10000029-1716048000-1716055200@decrocherlalune.eu
SUMMARY:La grande parade de la journée mondiale du louviérois
DESCRIPTION:Les Géants de la Compagnie des 7 lieux\, les Echassiers d’Altitude 80 \, les Bikers d’Amour défileront parmi les 1000 participant.e.s de la Grande Parade de la Journée Mondiale du louviérois. \n\n\n\n \n\n\n\nLe groupe Bikers d’amour a spécialement été créé pour l’occasion. Pendant plusieurs semaines\, l’asbl a organisé des ateliers artistiques à l’EPSIS (Ecole Professionnelle Secondaire Inférieure Spécialisée) Roger Roch. Grâce aux artistes et aux conseils de la Maison du Vélo\, les élèves des sections ferronnerie et couture ont pimpé 8 vélos qui placent le cœur au centre d’un message fédérateur. Démontés\, réparés\, colorés\, lovés ! Ça roule et ça love ! \n\n\n\nRendez-vous ce samedi dès 16h sur la Place Maugrétout à La Louvière pour les découvrir.
URL:https://decrocherlalune.eu/evenement/la-grande-parade-de-la-journee-mondiale-du-louvierois/
LOCATION:Place Maugrétout\, La Louvière Centre\, Place Maugrétout\, La Louvière\, Belgique
END:VEVENT
BEGIN:VEVENT
DTSTART;TZID=Europe/Brussels:20240508T190000
DTEND;TZID=Europe/Brussels:20240511T210000
DTSTAMP:20260420T072246
CREATED:20240504T073712Z
LAST-MODIFIED:20240508T124513Z
UID:10000028-1715194800-1715461200@decrocherlalune.eu
SUMMARY:Cérémonie ouverture national games
DESCRIPTION:Du 8 au 11 mai 2024\, la Ville de La Louvière accueillera les Special Olympics Belgium National Games\, le plus grand événement sportif inclusif en Belgique pour les athlètes ayant un handicap mental. 3400 athlètes accompagnés de 1200 coaches participent aux jeux dans une vingtaine de disciplines sportives.  \n\n\n\n \n\n\n\n \n\n\n\nPour la seconde fois\, l’asbl Décrocher la lune prendra part à ce bel évènement avec la participation des danseuses aériennes de la Compagnie Contrepointe\, les échassiers d’Altitude 80 et les Géants de la Compagnie des Sept Lieux lors de la Cérémonie d’ouverture le mercredi 8 mai. \n\n\n\n \n\n\n\nEn parallèle\, l’asbl a organisé des ateliers artistiques dans cinq institutions spécialisées de La Louvière. Encadrés par des artistes visuels\, adultes et enfants ont créé des illustrations pour les costumes\, drapeaux et fanions de la cérémonie d’ouverture.
URL:https://decrocherlalune.eu/evenement/ceremonie-ouverture-national-games/
LOCATION:Place communale\, La Louvière
ATTACH;FMTTYPE=image/jpeg:https://decrocherlalune.eu/wp-content/uploads/2024/05/bde9b462-fa2f-4e09-8c6c-0a528f80df77.jpg
END:VEVENT
BEGIN:VEVENT
DTSTART;TZID=Europe/Brussels:20230917T130000
DTEND;TZID=Europe/Brussels:20230917T160000
DTSTAMP:20260420T072246
CREATED:20230420T142503Z
LAST-MODIFIED:20240628T120046Z
UID:10000020-1694955600-1694966400@decrocherlalune.eu
SUMMARY:LA  Tournée générale\, la finale
DESCRIPTION:LA FINALE \n\n\n\nAprès son périple d’été dans les quartiers\, la Tournée Générale s’installera dans le Centre Ville pour une ultime étape.  Pour la dernière fois\, les bonimenteurs ouvriront leurs baraques foraines\, les Toupistes tournoieront  au son de leur bigophone\,  les équipes de quartiers s’affronteront dans de nouvelles épreuves. Laquelle remportera la grande victoire ? \n\n\n\n \n\n\n\nAu programme de ce huitième jour de tournée \n\n\n\n \n\n\n\nLes crazy bubbles:  animation spécialement dédiée aux enfants pendant laquelle le Professeur Crazy  les aider à créer des bulles complètement folles. \n\n\n\n \n\n\n\nLes Marteaux : fanfare festive\, un street-band qui remonte le moral des troupes !
URL:https://decrocherlalune.eu/evenement/tournee-generale/
LOCATION:Place Maugrétout\, La Louvière Centre\, Place Maugrétout\, La Louvière\, Belgique
ATTACH;FMTTYPE=image/jpeg:https://decrocherlalune.eu/wp-content/uploads/2023/04/dsc6463.jpg
END:VEVENT
BEGIN:VEVENT
DTSTART;TZID=Europe/Brussels:20230820T190000
DTEND;TZID=Europe/Brussels:20230820T230000
DTSTAMP:20260420T072246
CREATED:20230807T141946Z
LAST-MODIFIED:20230809T130419Z
UID:10000027-1692558000-1692572400@decrocherlalune.eu
SUMMARY:tournée générale /Saint vaast
DESCRIPTION:Dernier jour de la Tournée générale dans les quartiers. Ce  soir à Saint-Vaast où on se replonge à l’époque des Yéyés. Il faudra attendre le 17 septembre à La Louvière pour connaitre le vainqueur de la compétition.  \n\n\n\nAu programme : \n\n\n\n\nGarçons svp : Véritables « serveurs vocaux » a cappella\, ce trio se balade au coeur du public muni d’une ardoise de chansons à la demande.http://www.garconssilvousplait.fr\n\n\n\nMononk’s band: Brass band de cover https://www.facebook.com/Mononksband/?locale=fr_FR\n\n\n\nLa Toupie: projet musical coloré et décalé rassemblant 22 choristes bigophonistes dits toupistes qui vous feront tourner la tête
URL:https://decrocherlalune.eu/evenement/tournee-generale-saint-vaast/
LOCATION:Saint-Vaast\, Saint-Vaast\, Belgium
CATEGORIES:Compagnie lunaire,La cie de 7 lieux,La Tournée générale,Le grand Orchestre
ATTACH;FMTTYPE=image/jpeg:https://decrocherlalune.eu/wp-content/uploads/2023/07/visuel-tg-2023.jpg
END:VEVENT
BEGIN:VEVENT
DTSTART;TZID=Europe/Brussels:20230819T190000
DTEND;TZID=Europe/Brussels:20230819T230000
DTSTAMP:20260420T072246
CREATED:20230807T135158Z
LAST-MODIFIED:20230809T125720Z
UID:10000026-1692471600-1692486000@decrocherlalune.eu
SUMMARY:tournée générale /maurage boussoit
DESCRIPTION:6ème jour de La Tournée générale qui installe ses baraques foraines à Boussoit. La compétition continue dans une soirée dédiée à l’Italie \n\n\n\nAu programme : \n\n\n\n\nGarçons svp : Véritables « serveurs vocaux » a cappella\, ce trio se balade au coeur du public muni d’une ardoise de chansons à la demande.http://www.garconssilvousplait.fr\n\n\n\nAntonio and friends :  Tarantelles et musiques traditionnelles. Ils vous transporteront dans le Sud de l’Italie https://www.facebook.com/antonioandfriends/\n\n\n\nLa Toupie: projet musical coloré et décalé rassemblant 22 choristes bigophonistes dits toupistes qui vous feront tourner la tête.
URL:https://decrocherlalune.eu/evenement/tournee-generale-maurage-boussoit/
LOCATION:Rue de Thieu\, Boussoit
CATEGORIES:Compagnie lunaire,La cie de 7 lieux,La Tournée générale,Le grand Orchestre
ATTACH;FMTTYPE=image/jpeg:https://decrocherlalune.eu/wp-content/uploads/2023/07/visuel-tg-2023.jpg
END:VEVENT
BEGIN:VEVENT
DTSTART;TZID=Europe/Brussels:20230818T190000
DTEND;TZID=Europe/Brussels:20230818T230000
DTSTAMP:20260420T072246
CREATED:20230807T133749Z
LAST-MODIFIED:20230809T125125Z
UID:10000025-1692385200-1692399600@decrocherlalune.eu
SUMMARY:tournée générale/ Les 2 houdeng
DESCRIPTION:5ème étape de la Tournée générale à Houdeng qui s’installe à Bois du Luc pour une soirée Latino. La compétition inter quartiers et les animations des baraques foraines continuent. \n\n\n\n \n\n\n\nAu programme : \n\n\n\n\nMonsieur Culbuto: théâtre de rue \, duo acrobatique  http://www.dynamogene.net/linusable-monsieur-culbuto/\n\n\n\nB4F : groupe de percussionnistes en déambulation https://www.facebook.com/Brazilian.4.Fun\n\n\n\nLa Toupie: projet musical coloré et décalé rassemblant 22 choristes bigophonistes dits toupistes qui vous feront tourner la tête.
URL:https://decrocherlalune.eu/evenement/tournee-generale-les-2-houdeng/
LOCATION:Bois du Luc
CATEGORIES:Compagnie lunaire,La cie de 7 lieux,La Tournée générale
ATTACH;FMTTYPE=image/jpeg:https://decrocherlalune.eu/wp-content/uploads/2023/07/visuel-tg-2023.jpg
END:VEVENT
BEGIN:VEVENT
DTSTART;TZID=Europe/Brussels:20230817T190000
DTEND;TZID=Europe/Brussels:20230817T230000
DTSTAMP:20260420T072246
CREATED:20230724T145336Z
LAST-MODIFIED:20230809T124242Z
UID:10000024-1692298800-1692313200@decrocherlalune.eu
SUMMARY:tournée générale/ besonrieux
DESCRIPTION:4ème jour de La Tournée générale qui s’arrête sur la Place Besonrieux pour une soirée Disco. \n\n\n\nQuelle équipe sera la meilleure ce soir ? \n\n\n\nAu programme: \n\n\n\n\nMonsieur Culbuto:  théâtre de rue \, duo acrobatique  http://www.dynamogene.net/linusable-monsieur-culbuto/\n\n\n\nBarby sismic: Mini-fanfare 100% girlish bling-bling revisitant les plus grands tubes Girl Power https://www.facebook.com/barbysismic/\n\n\n\nLa Toupie: projet musical coloré et décalé rassemblant 22 choristes bigophonistes dits toupistes qui vous feront tourner la tête.
URL:https://decrocherlalune.eu/evenement/tournee-generale-besonrieux/
LOCATION:Place de Besonireux\, Place de Besonrieux\, Besonrieux
CATEGORIES:Compagnie lunaire,La cie de 7 lieux,Le grand Orchestre
ATTACH;FMTTYPE=image/jpeg:https://decrocherlalune.eu/wp-content/uploads/2023/07/visuel-tg-2023.jpg
END:VEVENT
BEGIN:VEVENT
DTSTART;TZID=Europe/Brussels:20230816T190000
DTEND;TZID=Europe/Brussels:20230816T230000
DTSTAMP:20260420T072246
CREATED:20230724T144354Z
LAST-MODIFIED:20230809T131705Z
UID:10000023-1692212400-1692226800@decrocherlalune.eu
SUMMARY:tournée générale /trivières
DESCRIPTION:3ème jour de La Tournée générale! La compétition inter quartiers continue\, les jeux dans les baraques foraines sont ouvert à toutes et tous \, le tout  dans une ambiance rock. \n\n\n\n \n\n\n\nAu programme : \n\n\n\n\n Okidok dans Slip Expérience: Duo acrobatique. Ils ont des corps de rêves\, des corps de stars. Musclés\, élégants\, habiles\, facétieux et bien conscients de toutes leurs incroyables qualités\, ils se lancent dans une grande démonstration de leurs talents. Et Dieu sait si leur palette est large. http://okidok.be/portfolio/slips-experience/\n\n\n\nMononk’s band:  Brass band de cover https://www.facebook.com/Mononksband/?locale=fr_FR\n\n\n\nLa Toupie: projet musical coloré et décalé rassemblant 22 choristes bigophonistes dits toupistes qui vous feront tourner la tête.
URL:https://decrocherlalune.eu/evenement/tournee-generale-trivieres/
LOCATION:Parc\, rue François Dieudonne\, Rue François Dieudonné\, Trivières
CATEGORIES:La cie de 7 lieux,La Tournée générale,Le grand Orchestre
ATTACH;FMTTYPE=image/jpeg:https://decrocherlalune.eu/wp-content/uploads/2023/07/visuel-tg-2023.jpg
END:VEVENT
BEGIN:VEVENT
DTSTART;TZID=Europe/Brussels:20230815T190000
DTEND;TZID=Europe/Brussels:20230815T230000
DTSTAMP:20260420T072246
CREATED:20230724T141010Z
LAST-MODIFIED:20230809T122740Z
UID:10000022-1692126000-1692140400@decrocherlalune.eu
SUMMARY:la Tournée Générale /les deux haine
DESCRIPTION:Pour son deuxième jour \, La Tournée générale s’arrête à Haine-Saint-Pierre dans le Parc Léon Hiard. La compétition inter-quartiers continue dans une atmosphère de fête foraine.  Au niveau musical\, c’est soirée tubes ! \n\n\n\n \n\n\n\nAu programme:  \n\n\n\n\nBe Flat :  Duo acrobatique et drôlatique  https://www.be-flat.be/ludo-arsene\n\n\n\nPicallili project : Fanfare déambulatoire\, Colporteurs de sons multicolores\, au répertoire éclectique et peu protocolaire\, surprenant (parfois)\, inattendu (souvent) expectoré à pleins poumons au gré de ses lubies et des envies de son public https://piccalilliproject.be/\n\n\n\nLa Toupie : projet musical coloré et décalé rassemblant 24 choristes bigophonistes dits toupistes qui vous feront tourner la tête.\n\n\n\n\n\n\n\n\n\n\nPiccalilli Project
URL:https://decrocherlalune.eu/evenement/la-tournee-generale-les-deux-haine/
LOCATION:Parc\,  rue Léon Hiard\, 7100 Haine Saint Pierre\, Rue Léon Hiard\, Haine Saint Pierre\, 7100
ATTACH;FMTTYPE=image/jpeg:https://decrocherlalune.eu/wp-content/uploads/2023/07/visuel-tg-2023.jpg
END:VEVENT
BEGIN:VEVENT
DTSTART;TZID=Europe/Brussels:20230814T190000
DTEND;TZID=Europe/Brussels:20230814T230000
DTSTAMP:20260420T072246
CREATED:20230724T104141Z
LAST-MODIFIED:20230809T122121Z
UID:10000021-1692039600-1692054000@decrocherlalune.eu
SUMMARY:La Tournée générale / Strépy -bracquegnies
DESCRIPTION:Première étape de La Tournée générale à Strépy-Bracquegnies:  lancement de la compétition inter-quartiers avec 8 nouvelles équipes\, ouverture des baraques foraines et soirée sous le signe du Funk. \n\n\n\n \n\n\n\nAu programme: \n\n\n\n\nL’envolée lunaire par la compagnie des Vieux Luneux : valser à petits pas ou marcher en apesanteur ? Empiler ses valises ou les laisser décoller ? Atterrir ou alunir ? En geste et en musique\, les Vieux Luneux vous raconte leur envolée.\n\n\n\n Funky bodding :  fanfare festive\, originale qui dispense la bonne humeur https://www.funkybodding.com/\n\n\n\nLa Toupie : projet musical coloré et décalé rassemblant 22 choristes bigophonistes dits toupistes qui vous feront tourner la tête.
URL:https://decrocherlalune.eu/evenement/tournee-generale-jour-1/
LOCATION:Parc Strépy-Bracquegnies\, rue Victor Monoyer
CATEGORIES:La cie de 7 lieux,La Tournée générale,Le grand Orchestre,Les Vieux Luneux
ATTACH;FMTTYPE=image/jpeg:https://decrocherlalune.eu/wp-content/uploads/2023/07/visuel-tg-2023.jpg
END:VEVENT
END:VCALENDAR